BEGIN:VCALENDAR
VERSION:2.0
PRODID:-//WisPolitics - ECPv6.15.20//NONSGML v1.0//EN
CALSCALE:GREGORIAN
METHOD:PUBLISH
X-ORIGINAL-URL:https://www.wispolitics.com
X-WR-CALDESC:Events for WisPolitics
REFRESH-INTERVAL;VALUE=DURATION:PT1H
X-Robots-Tag:noindex
X-PUBLISHED-TTL:PT1H
BEGIN:VTIMEZONE
TZID:America/Chicago
BEGIN:DAYLIGHT
TZOFFSETFROM:-0600
TZOFFSETTO:-0500
TZNAME:CDT
DTSTART:20220313T080000
END:DAYLIGHT
BEGIN:STANDARD
TZOFFSETFROM:-0500
TZOFFSETTO:-0600
TZNAME:CST
DTSTART:20221106T070000
END:STANDARD
BEGIN:DAYLIGHT
TZOFFSETFROM:-0600
TZOFFSETTO:-0500
TZNAME:CDT
DTSTART:20230312T080000
END:DAYLIGHT
BEGIN:STANDARD
TZOFFSETFROM:-0500
TZOFFSETTO:-0600
TZNAME:CST
DTSTART:20231105T070000
END:STANDARD
BEGIN:DAYLIGHT
TZOFFSETFROM:-0600
TZOFFSETTO:-0500
TZNAME:CDT
DTSTART:20240310T080000
END:DAYLIGHT
BEGIN:STANDARD
TZOFFSETFROM:-0500
TZOFFSETTO:-0600
TZNAME:CST
DTSTART:20241103T070000
END:STANDARD
BEGIN:DAYLIGHT
TZOFFSETFROM:-0600
TZOFFSETTO:-0500
TZNAME:CDT
DTSTART:20250309T080000
END:DAYLIGHT
BEGIN:STANDARD
TZOFFSETFROM:-0500
TZOFFSETTO:-0600
TZNAME:CST
DTSTART:20251102T070000
END:STANDARD
END:VTIMEZONE
BEGIN:VEVENT
DTSTART;TZID=America/Chicago:20241031T083000
DTEND;TZID=America/Chicago:20241031T093000
DTSTAMP:20260420T072652
CREATED:20241021T203917Z
LAST-MODIFIED:20241028T014550Z
UID:10002565-1730363400-1730367000@www.wispolitics.com
SUMMARY:Fundraiser for Rep. Shelia Stubbs
DESCRIPTION:Questions? \n\n\n\n608-206-1818 \n\n\n\ninfo@sheliastubbsforassembly.com
URL:https://www.wispolitics.com/event/breakfast-with-representative-shelia-stubbs/
LOCATION:The Madison Club\, 5 East Wilson St.\, Madison\, Wisconsin\, 53703\, United States
END:VEVENT
BEGIN:VEVENT
DTSTART;TZID=America/Chicago:20230427T113000
DTEND;TZID=America/Chicago:20230427T133000
DTSTAMP:20260420T072652
CREATED:20230308T205220Z
LAST-MODIFIED:20230426T165348Z
UID:10000604-1682595000-1682602200@www.wispolitics.com
SUMMARY:Wisconsin Economic Forecast Luncheon
DESCRIPTION:The annual Wisconsin Economic Forecast Luncheon returns April 27 with a top speaker and panel to provide national and regional insights for business leaders\, economic development officials\, elected officials and investors. \n\n\n\nThe luncheon was initially launched by the Wisconsin Bankers Association. It is being revamped post-pandemic in cooperation with WisPolitics.com and WisBusiness.com\, two non-partisan news organizations based in Madison\, and a host of partners from across the political spectrum. \n\n\n\nThe luncheon will be held at the Madison Club\, 5 East Wilson St.\, Madison (madisonclub.org) from 11:30 a.m. to 1:30 p.m. on Thursday April 27. The cost for the general public is: $45 per person.  \n\n\n\n\n\n\n\n\n\nThe luncheon features a keynote address from Sarah House\, a managing director and senior economist for Wells Fargo’s Corporate and Investment Bank\, followed by a Wisconsin-based panel discussion. \n\n\n\nHouse follows the U.S. macro economy\, including the labor market\, inflation trends\, and monetary policy. Prior to joining Wells Fargo in 2010\, she worked as a research associate for the Federal Reserve Bank of Richmond after gaining degrees from Tulane University and the London School of Economics. She has co-authored two books\, “Economic and Business Forecasting’’ and `Economic Modeling in the Post Great Recession Era.’’ \n\n\n\nThe following panel includes: \n\n\n\n–State of Wisconsin Investment Board Head Economist Todd Mattina  \n\n\n\n–Forward Analytics economist Dale Knapp  \n\n\n\n— Marquette Economics Prof. David Clark  \n\n\n\n–And Cynthia Erdman\, president\, Farmers & Merchants Bank of Kendall\, Wis.  \n\n\n\nPartnering organizations include: Wisconsin Realtors Association\, Wisconsin Counties Association\, Wisconsin Builders Association\, Wisconsin Grocers Association\, Wisconsin Hospital Association\, Wisconsin Transportation Builders Association\, Wisconsin Technology Council\, Construction Business Group\, Wisconsin Farm Bureau Federation\, International Union of Operating Engineers Local 139\, and the North Central States Regional Council of Carpenters
URL:https://www.wispolitics.com/event/wisconsin-economic-forecast-luncheon/
LOCATION:The Madison Club\, 5 East Wilson St.\, Madison\, Wisconsin\, 53703\, United States
END:VEVENT
END:VCALENDAR